{"text_format":"1","workbook":"xlsx","n_sheets":2,"sheets":["Kumulativní rozpočet projektu","List2"],"not_rendered":{"charts":0,"images":1,"macros":1,"external_links":0,"defined_names":0,"comments":1,"pivot_tables":0},"unopened":[],"bounds":{"document_bytes":16777216,"sheet_cells":100000,"rows_first":2000,"rows_last":500,"rows_between":2000,"halvings":0,"cell_chars":16384,"cell_head_chars":4096},"cells_cut":0,"cells_raw":0,"read":"whole","date_system":"1900"}

{"sheet":"Kumulativní rozpočet projektu","index":0,"n_rows":77,"n_cols":12,"rows_kept":77,"cut":false,"hidden":false,"merged":[[62,1,62,2],[57,8,57,11],[73,4,76,11],[59,1,59,2],[59,4,59,5],[60,4,60,5],[60,8,60,11],[66,8,66,11],[76,0,76,1],[72,4,72,11],[65,4,65,5],[65,8,65,11],[63,1,63,2],[63,4,63,5],[62,4,62,5],[62,8,62,11],[59,8,59,11],[75,0,75,1],[66,4,66,5],[64,1,64,2],[57,0,65,0],[64,4,64,5],[57,4,57,5],[64,8,64,11],[63,8,63,11],[60,1,60,2],[35,0,56,0],[50,4,50,5],[51,4,51,5],[52,4,52,5],[53,4,53,5],[35,4,35,5],[36,1,36,2],[36,4,36,5],[55,1,55,2],[54,1,54,2],[53,1,53,2],[35,1,35,2],[46,1,46,2],[47,1,47,2],[48,1,48,2],[44,1,44,2],[44,4,44,5],[56,4,56,5],[43,4,43,5],[54,4,54,5],[55,4,55,5],[46,4,46,5],[37,1,37,2],[56,8,56,11],[54,8,54,11],[58,1,58,2],[58,4,58,5],[58,8,58,11],[61,1,61,2],[44,8,44,11],[42,8,42,11],[45,8,45,11],[43,8,43,11],[49,4,49,5],[37,4,37,5],[39,1,39,2],[39,4,39,5],[61,4,61,5],[55,8,55,11],[57,1,57,2],[53,8,53,11],[47,4,47,5],[48,4,48,5],[52,1,52,2],[61,8,61,11],[47,8,47,11],[56,1,56,2],[50,8,50,11],[51,8,51,11],[52,8,52,11],[40,4,40,5],[41,4,41,5],[46,8,46,11],[38,8,38,11],[41,1,41,2],[49,1,49,2],[50,1,50,2],[51,1,51,2],[39,8,39,11],[38,1,38,2],[38,4,38,5],[42,1,42,2],[43,1,43,2],[45,1,45,2],[40,1,40,2],[48,8,48,11],[49,8,49,11],[42,4,42,5],[45,4,45,5],[17,3,17,6],[27,3,27,7],[31,8,31,9],[29,3,29,7],[35,8,35,11],[36,8,36,11],[40,8,40,11],[41,8,41,11],[37,8,37,11],[33,2,34,2],[33,3,34,3],[33,4,34,5],[33,8,34,11],[28,3,28,7],[30,3,30,7],[33,0,34,1],[33,6,34,6],[33,7,34,7],[0,0,0,11],[2,1,2,3],[3,1,3,3],[9,3,9,6],[26,3,26,6],[7,3,8,7],[7,8,8,9],[7,11,8,11],[11,3,11,7],[6,6,6,11],[2,6,5,11],[25,3,25,7],[13,3,13,6],[14,3,14,6],[15,3,15,6],[16,3,16,6],[6,1,6,2],[24,3,24,7],[25,0,27,1],[18,3,20,4],[12,3,12,7],[10,3,10,6],[21,3,23,5],[7,10,8,10]]}
["KUMULATIVNÍ ROZPOČET PROJEKTU - 12. VÝZVA NPO"]
[]
["Název žadatele",null,null,null,null,"Instrukce:","Tabulka je optimalizována pro MS Excel 2010 a vyšší. Použití starší verze či jiného programu může způsobit problémy. Editujte pouze zelená pole, vybírejte hodnoty z rozevíracích seznamů a měňte hodnoty zaškrtávacích polí. Řiďte se informacemi označenými červeným trojúhelníkem v pravém horním rohu buněk."]
["Název projektu"]
[]
["Prioritní oblast","8. energetické úspory"]
["Podoblast","nezvoleno"]
[{"$f":"IF(B7=\"nezvoleno\",\"\",\"Vyberte prováděná opatření (aktivity):\")","v":""},null,null,"Stanovení maximálních způsobilých výdajů",null,null,null,null,"rozsah opatření",null,"vlastní limit (bez DPH)","maximální způsobilé výdaje na opatření (bez DPH)"]
[]
[null,null,null,"instalovaný tepelný výkon  (dle projektu) - 1. typ zdroje",null,null,null,1,null,"[kWt]",null,{"$f":"IF($B$7=List2!$A$4,0,IF($A$71=2,IF($A$10=FALSE,0,IF($B$7=List2!$A$2,IF($H$10=1,IF(C11=TRUE,(I10*13100)*1.05,I10*13100),IF($H$10=2,I10*10050,IF($H$10=3,I10*41800,IF($H$10=4,I10*63900,IF($H$10=5,I10*63900,IF($H$10=6,I10*28700,I10*47750)))))),IF($H$10=1,IF(C11=TRUE,(I10*13100)*1.05,I10*13100),IF($H$10=2,I10*10050,IF($H$10=3,I10*41800,IF($H$10=4,I10*63900,IF($H$10=5,I10*63900,IF($H$10=6,I10*28700,I10*47750))))))))*1.05,IF($A$71=3,(IF($A$10=FALSE,0,IF($B$7=List2!$A$2,IF($H$10=1,IF(C11=TRUE,(I10*13100)*1.05,I10*13100),IF($H$10=2,I10*10050,IF($H$10=3,I10*41800,IF($H$10=4,I10*63900,IF($H$10=5,I10*63900,IF($H$10=6,I10*28700,I10*47750)))))),IF($H$10=1,IF(C11=TRUE,(I10*13100)*1.05,I10*13100),IF($H$10=2,I10*10050,IF($H$10=3,I10*41800,IF($H$10=4,I10*63900,IF($H$10=5,I10*63900,IF($H$10=6,I10*28700,I10*47750))))))))*1.1),IF($A$10=FALSE,0,IF($B$7=List2!$A$2,IF($H$10=1,IF(C11=TRUE,(I10*13100)*1.05,I10*13100),IF($H$10=2,I10*10050,IF($H$10=3,I10*41800,IF($H$10=4,I10*63900,IF($H$10=5,I10*63900,IF($H$10=6,I10*28700,I10*47750)))))),IF($H$10=1,IF(C11=TRUE,(I10*13100)*1.05,I10*13100),IF($H$10=2,I10*10050,IF($H$10=3,I10*41800,IF($H$10=4,I10*63900,IF($H$10=5,I10*63900,IF($H$10=6,I10*28700,I10*47750)))))))))))","v":0}]
[null,null,null,"instalovaný tepelný výkon  (dle projektu) - 2. typ zdroje",null,null,null,2,null,"[kWt]",null,{"$f":"IF($B$7=List2!$A$4,0,IF($A$71=2,IF($A$10=FALSE,0,IF($B$7=List2!$A$2,IF($H$11=1,IF(C11=TRUE,(I11*13100)*1.05,I11*13100),IF($H$11=2,I11*10050,IF($H$11=3,I11*41800,IF($H$11=4,I11*63900,IF($H$11=5,I11*63900,IF($H$11=6,I11*28700,I11*47750)))))),IF($H$11=1,IF(C11=TRUE,(I11*13100)*1.05,I11*13100),IF($H$11=2,I11*10050,IF($H$11=3,I11*41800,IF($H$11=4,I11*63900,IF($H$11=5,I11*63900,IF($H$11=6,I11*28700,I11*47750))))))))*1.05,IF($A$71=3,(IF($A$10=FALSE,0,IF($B$7=List2!$A$2,IF($H$11=1,IF(C11=TRUE,(I11*13100)*1.05,I11*13100),IF($H$11=2,I11*10050,IF($H$11=3,I11*41800,IF($H$11=4,I11*63900,IF($H$11=5,I11*63900,IF($H$11=6,I11*28700,I11*47750)))))),IF($H$11=1,IF(C11=TRUE,(I11*13100)*1.05,I11*13100),IF($H$11=2,I11*10050,IF($H$11=3,I11*41800,IF($H$11=4,I11*63900,IF($H$11=5,I11*63900,IF($H$11=6,I11*28700,I11*47750))))))))*1.1),IF($A$10=FALSE,0,IF($B$7=List2!$A$2,IF($H$11=1,IF(C11=TRUE,(I11*13100)*1.05,I11*13100),IF($H$11=2,I11*10050,IF($H$11=3,I11*41800,IF($H$11=4,I11*63900,IF($H$11=5,I11*63900,IF($H$11=6,I11*28700,I11*47750)))))),IF($H$11=1,IF(C11=TRUE,(I11*13100)*1.05,I11*13100),IF($H$11=2,I11*10050,IF($H$11=3,I11*41800,IF($H$11=4,I11*63900,IF($H$11=5,I11*63900,IF($H$11=6,I11*28700,I11*47750)))))))))))","v":0}]
[null,null,null,"nově budovaná otopná soustava - 1. typ zdroje",null,null,null,null,null,null,null,{"$f":"IF($B$7=List2!$A$4,0,IF($A$71=2,IF($A$10=FALSE,0,IF($B$7=List2!$A$2,IF($C$10=FALSE,0,IF($H$10=1,IF(C11=TRUE,(I10*7000)*1.05,I10*7000),IF($H$10=2,$I$10*6100,$I$10*13950))),IF($C$10=FALSE,0,IF($H$10=1,IF(C11=TRUE,(I10*7000)*1.05,I10*7000),IF($H$10=2,$I$10*6100,$I$10*13950)))))*1.05,IF($A$71=3,(IF($A$10=FALSE,0,IF($B$7=List2!$A$2,IF($C$10=FALSE,0,IF($H$10=1,IF(C11=TRUE,(I10*7000)*1.05,I10*7000),IF($H$10=2,$I$10*6100,$I$10*13950))),IF($C$10=FALSE,0,IF($H$10=1,IF(C11=TRUE,(I10*7000)*1.05,I10*7000),IF($H$10=2,$I$10*6100,$I$10*13950)))))*1.1),IF($A$10=FALSE,0,IF($B$7=List2!$A$2,IF($C$10=FALSE,0,IF($H$10=1,IF(C11=TRUE,(I10*7000)*1.05,I10*7000),IF($H$10=2,$I$10*6100,$I$10*13950))),IF($C$10=FALSE,0,IF($H$10=1,IF(C11=TRUE,(I10*7000)*1.05,I10*7000),IF($H$10=2,$I$10*6100,$I$10*13950))))))))","v":0}]
[null,null,null,"nově budovaná otopná soustava - 2. typ zdroje",null,null,null,null,null,null,null,{"$f":"IF($B$7=List2!$A$4,0,IF($A$71=2,IF($A$10=FALSE,0,IF($B$7=List2!$A$2,IF($C$10=FALSE,0,IF($H$11=1,IF(C11=TRUE,(I11*7000)*1.05,I11*7000),IF($H$11=2,$I$11*6100,$I$11*13950))),IF($C$10=FALSE,0,IF($H$11=1,IF(C11=TRUE,(I11*7000)*1.05,I11*7000),IF($H$11=2,$I$11*6100,$I$11*13950)))))*1.05,IF($A$71=3,(IF($A$10=FALSE,0,IF($B$7=List2!$A$2,IF($C$10=FALSE,0,IF($H$11=1,IF(C11=TRUE,(I11*7000)*1.05,I11*7000),IF($H$11=2,$I$11*6100,$I$11*13950))),IF($C$10=FALSE,0,IF($H$11=1,IF(C11=TRUE,(I11*7000)*1.05,I11*7000),IF($H$11=2,$I$11*6100,$I$11*13950)))))*1.1),IF($A$10=FALSE,0,IF($B$7=List2!$A$2,IF($C$10=FALSE,0,IF($H$11=1,IF(C11=TRUE,(I11*7000)*1.05,I11*7000),IF($H$11=2,$I$11*6100,$I$11*13950))),IF($C$10=FALSE,0,IF($H$11=1,IF(C11=TRUE,(I11*7000)*1.05,I11*7000),IF($H$11=2,$I$11*6100,$I$11*13950))))))))","v":0}]
[null,null,null,"výměra zateplovaných obvodových stěn",null,null,null,1,null,"[m2]",null,{"$f":"IF($A$9=TRUE, IF($H$14=2,$I$14*$K$14,IF($A$71=2,$I$14*4100*1.05,IF($A$71=3,$I$14*4100*1.1,$I$14*4100))),0)","v":0}]
[null,null,null,"výměra zateplovaných plochých a šikmých střešních konstrukcí",null,null,null,1,null,"[m2]",null,{"$f":"IF($A$9=TRUE, IF($H$15=2,I15*$K$15,IF($A$71=2,$I$15*3100*1.05,IF($A$71=3,$I$15*3100*1.1,$I$15*3100))),0)","v":0}]
[null,null,null,"výměra zateplovaných konstrukcí k nevytápěným prostorům",null,null,null,1,null,"[m2]",null,{"$f":"IF($A$9=TRUE, IF($H$16=2,$I$16*$K$16,IF($A$71=2,$I$16*1400*1.05,IF($A$71=3,$I$16*1400*1.1,$I$16*1400))),0)","v":0}]
[null,null,null,"výměra zateplovaných podlah na zemině",null,null,null,1,null,"[m2]",null,{"$f":"IF($A$9=TRUE, IF($H$17=2,$I$17*$K$17,IF($A$71=2,$I$17*3500*1.05,IF($A$71=3,$I$17*3500*1.1,$I$17*3500))),0)","v":0}]
[null,null,null,"výměra vyměňovaných výplní otvorů",null,null,null,1,null,"[m2]",null,{"$f":"IF($A$9=TRUE, IF($H$18=2,$I$18*$K$18,IF($A$71=2,$I$18*9750*1.05,IF($A$71=3,$I$18*9750*1.1,$I$18*9750))),0)","v":0}]
[null,null,null,"výměra stíněných ploch výplní otvorů",null,null,"stínicí technika s ručním mechanickým ovládáním",null,null,"[m2]",null,{"$f":"IF($B$7=List2!$A$4,0,IF($A$71=2,IF($A$16=FALSE,0,IF($B$7=List2!$A$2,IF(List2!$H$31<2,0,$I$19*2200),$I$19*2200))*1.05,IF($A$71=3,(IF($A$16=FALSE,0,IF($B$7=List2!$A$2,IF(List2!$H$31<2,0,$I$19*2200),$I$19*2200))*1.1),IF($A$16=FALSE,0,IF($B$7=List2!$A$2,IF(List2!$H$31<2,0,$I$19*2200),$I$19*2200)))))","v":0}]
[null,null,null,null,null,null,"stínicí technika s ručním elektronickým ovládáním",null,null,"[m2]",null,{"$f":"IF($B$7=List2!$A$4,0,IF($A$71=2,IF($A$16=FALSE,0,IF($B$7=List2!$A$2,IF(List2!$H$31<2,0,$I$20*3400),$I$20*3400))*1.05,IF($A$71=3,(IF($A$16=FALSE,0,IF($B$7=List2!$A$2,IF(List2!$H$31<2,0,$I$20*3400),$I$20*3400))*1.1),IF($A$16=FALSE,0,IF($B$7=List2!$A$2,IF(List2!$H$31<2,0,$I$20*3400),$I$20*3400)))))","v":0}]
[null,null,null,null,null,null,"stínicí technika s inteligentním motorickým řízením",null,null,"[m2]",null,{"$f":"IF($B$7=List2!$A$4,0,IF($A$71=2,IF($A$16=FALSE,0,IF($B$7=List2!$A$2,IF(List2!$H$31<2,0,$I$21*4150),$I$21*4150))*1.05,IF($A$71=3,(IF($A$16=FALSE,0,IF($B$7=List2!$A$2,IF(List2!$H$31<2,0,$I$21*4150),$I$21*4150))*1.1),IF($A$16=FALSE,0,IF($B$7=List2!$A$2,IF(List2!$H$31<2,0,$I$21*4150),$I$21*4150)))))","v":0}]
[null,null,null,"výměra užitné podlahové plochy místností v nichž dochází k úpravě parametrů osvětlení",null,null,"učebny, posluchárny, předn. sály - LED, dynamický způsob ovládání",null,null,"[m2]",null,{"$f":"IF($B$7=List2!$A$4,0,IF($A$71=2,IF($A$17=FALSE,0,IF($B$7=List2!$A$2,IF(List2!$H$31<2,0,$I$22*1700),$I$22*1700))*1.05,IF($A$71=3,(IF($A$17=FALSE,0,IF($B$7=List2!$A$2,IF(List2!$H$31<2,0,$I$22*1700),$I$22*1700))*1.1),IF($A$17=FALSE,0,IF($B$7=List2!$A$2,IF(List2!$H$31<2,0,$I$22*1700),$I$22*1700)))))","v":0}]
[null,null,null,null,null,null,"učebny, posluchárny, předn. sály - LED, biodynamický systém osvětlení",null,null,"[m2]",null,{"$f":"IF($B$7=List2!$A$4,0,IF($A$71=2,IF($A$17=FALSE,0,IF($B$7=List2!$A$2,IF(List2!$H$31<2,0,$I$23*2200),$I$23*2200))*1.05,IF($A$71=3,(IF($A$17=FALSE,0,IF($B$7=List2!$A$2,IF(List2!$H$31<2,0,$I$23*2200),$I$23*2200))*1.1),IF($A$17=FALSE,0,IF($B$7=List2!$A$2,IF(List2!$H$31<2,0,$I$23*2200),$I$23*2200)))))","v":0}]
[null,null,null,null,null,null,"ostatní prostory - pokročilý systém automatického ovládání ",null,null,"[m2]",null,{"$f":"IF($B$7=List2!$A$4,0,IF($A$71=2,IF($A$17=FALSE,0,IF($B$7=List2!$A$2,IF(List2!$H$31<2,0,$I$24*1250),$I$24*1250))*1.05,IF($A$71=3,(IF($A$17=FALSE,0,IF($B$7=List2!$A$2,IF(List2!$H$31<2,0,$I$24*1250),$I$24*1250))*1.1),IF($A$17=FALSE,0,IF($B$7=List2!$A$2,IF(List2!$H$31<2,0,$I$24*1250),$I$24*1250)))))","v":0}]
[null,null,null,"výměra užitné podlahové plochy místností s úpravou akustických parametrů",null,null,null,1,null,"[m2]",null,{"$f":"IF($B$7=List2!$A$4,0,IF($A$71=2,IF($A$14=FALSE,0,IF($B$7=List2!$A$2,IF(List2!$H$31<2,0,$I$25*1250),$I$25*1250))*1.05,IF($A$71=3,(IF($A$14=FALSE,0,IF($B$7=List2!$A$2,IF(List2!$H$31<2,0,$I$25*1250),$I$25*1250))*1.1),IF($A$14=FALSE,0,IF($B$7=List2!$A$2,IF(List2!$H$31<2,0,$I$25*1250),$I$25*1250)))))","v":0}]
[{"$f":"IF($B$7=\"5.2 - Budování veřejných budov v pasivním energetickém standardu\",\"* - v případě SC ´5.2´  je nutno zatrhnout  opatření ´Výstavba veřejných budov v pasivním energetickém standardu´, jinak se nevypočtou způsobilé výdaje\", IF($B$7=\"5.1a - Komplexní řešení energetické náročnosti budovy\",\"\",\"\"))","v":""},null,null,"úspora energie dosažená realizací všech dalších opatření navržených v energetickém posudku",null,null,null,1,null,"[GJ.rok-1]",null,{"$f":"IF($B$7=List2!$A$4,0,IF($A$71=2,IF($A$18=FALSE,0,IF($B$7=List2!$A$2,IF(List2!$H$31<2,0,I26*12100),I26*12100))*1.05,IF($A$71=3,(IF($A$18=FALSE,0,IF($B$7=List2!$A$2,IF(List2!$H$31<2,0,I26*12100),I26*12100))*1.1),IF($A$18=FALSE,0,IF($B$7=List2!$A$2,IF(List2!$H$31<2,0,I26*12100),I26*12100)))))","v":0}]
[null,null,null,"instalovaný tepelný výkon termického solárního systému",null,null,null,1,null,"[kWt]",null,{"$f":"IF($B$7=List2!$A$4,0,IF($A$71=2,IF($A$11=FALSE,0,IF($B$7=List2!$A$2,IF($H$27=1,$I$27*36900,$I$27*67350),IF($H$27=1,$I$27*36900,$I$27*67350)))*1.05,IF($A$71=3,(IF($A$11=FALSE,0,IF($B$7=List2!$A$2,IF($H$27=1,$I$27*36900,$I$27*67350),IF($H$27=1,$I$27*36900,$I$27*67350)))*1.1),IF($A$11=FALSE,0,IF($B$7=List2!$A$2,IF($H$27=1,$I$27*36900,$I$27*67350),IF($H$27=1,$I$27*36900,$I$27*67350))))))","v":0}]
[null,null,null,"instalovaný elektrický výkon zdroje (KVET)",null,null,null,null,null,"[kWe]",null,{"$f":"IF($B$7=List2!$A$4,0,IF($A$71=2,IF($A$13=FALSE,0,IF($B$7=List2!$A$2,I28*205700,I28*205700))*1.05,IF($A$71=3,(IF($A$13=FALSE,0,IF($B$7=List2!$A$2,I28*205700,I28*205700))*1.1),IF($A$13=FALSE,0,IF($B$7=List2!$A$2,I28*205700,I28*205700)))))","v":0}]
[null,null,null,"výkon vzduchotechnické jednotky",null,null,null,null,null,"[m3.h-1]",null,{"$f":"IF($B$7=List2!$A$4,0,IF($A$71=2,IF($A$12=FALSE,0,IF($B$7=List2!$A$2,$I$29*560,$I$29*560))*1.05,IF($A$71=3,(IF($A$12=FALSE,0,IF($B$7=List2!$A$2,$I$29*560,$I$29*560))*1.1),IF($A$12=FALSE,0,IF($B$7=List2!$A$2,$I$29*560,$I$29*560)))))","v":0}]
[null,null,null,"špičkový instalovaný elektrický výkon fotovoltaického systému",null,null,null,null,null,"[kWe]",null,{"$f":"IF($B$7=List2!$A$4,0,IF($A$71=2,IF($A$15=FALSE,0,IF($B$7=List2!$A$2,$I$30*54500,$I$30*54500))*1.05,IF($A$71=3,(IF($A$15=FALSE,0,IF($B$7=List2!$A$2,$I$30*54500,$I$30*54500))*1.1),IF($A$15=FALSE,0,IF($B$7=List2!$A$2,$I$30*54500,$I$30*54500)))))","v":0}]
[null,null,null,"akumulace k fotovoltaickému systému",null,null,null,null,null,null,null,{"$f":"IF($B$7=List2!$A$4,0,IF($A$71=2,IF($A$15=FALSE,0,IF($B$7=List2!$A$2,$I$30*31500,$I$30*31500))*1.05,IF($A$71=3,(IF($A$15=FALSE,0,IF($B$7=List2!$A$2,$I$30*31500,$I$30*31500))*1.1),IF($A$15=FALSE,0,IF($B$7=List2!$A$2,$I$30*31500,$I$30*31500)))))","v":0}]
[null,null,null,null,null,null,null,null,"Celkem",null,null,{"$f":"IF($A$9=TRUE,SUM(L10:L31),SUM(L10:L31))","v":0}]
["Souhrnný rozpočet"]
["Procentní výše způsob. výdajů na projektovou přípravu",null,{"$f":"IF(I56>10000000,\"6\",IF(I56>3000000,\"9\",IF(I56>1000000,\"12\",\"15\")))","v":"15"},"Cena bez DPH","procento DPH [%]",null,"Cena včetně DPH","Nezpůsobilá část celkových výdajů stanovená žadatelem (bez DPH)","Způsobilé výdaje po zohlednění limitů způsobilých výdajů a způsobilosti DPH"]
[]
["Realizace","Výdaje na zateplení",null,0,21,null,{"$f":"IF($B$7=\"nezvoleno\",0,D36*(1+(E36/100)))","v":0},0,{"$f":"IF($B$7=\"nezvoleno\",0,IF($B$7<>List2!$A$4,IF(List2!$A$24=TRUE,IF((D36-H36)<(L14+L15+L16+L17+L18),(D36-H36),(L14+L15+L16+L17+L18)),IF((D36-H36)<(L14+L15+L16+L17+L18),(D36-H36)*(1),(L14+L15+L16+L17+L18)*(1))),0))","v":0}]
[null,"Výdaje na výměnu zdroje (včetně kotelny) - 1. typ",null,0,21,null,{"$f":"IF($B$7=\"nezvoleno\",0,IF($B$7=List2!$A$4,0,D37*(1+(E37/100))))","v":0},0,{"$f":"IF($B$7=\"nezvoleno\",0,IF($B$7=List2!$A$4,0,IF($A$10=FALSE,0,IF(List2!$A$24=TRUE,IF((D37-H37)<L10,(D37-H37),L10),IF((D37-H37)<L10,(D37-H37)*(1),(L10)*(1))))))","v":0}]
[null,"Výdaje na výměnu zdroje (včetně kotelny) - 2. typ",null,0,21,null,{"$f":"IF($B$7=\"nezvoleno\",0,IF($B$7=List2!$A$4,0,D38*(1+(E38/100))))","v":0},0,{"$f":"IF($B$7=\"nezvoleno\",0,IF($B$7=List2!$A$4,0,IF($A$10=FALSE,0,IF(List2!$A$24=TRUE,IF((D38-H38)<L11,(D38-H38),L11),IF((D38-H38)<L11,(D38-H38)*(1),(L11)*(1))))))","v":0}]
[null,"Výdaje na vybudování nové otopné soustavy - 1. typ zdroje",null,0,21,null,{"$f":"IF($B$7=\"nezvoleno\",0,IF($B$7=List2!$A$4,0,D39*(1+(E39/100))))","v":0},0,{"$f":"IF($B$7=\"nezvoleno\",0,IF($B$7=List2!$A$4,0,IF(List2!$A$24=TRUE,IF((D39-H39)<L12,(D39-H39),L12),IF((D39-H39)<L12,(D39-H39)*(1),(L12)*(1)))))","v":0}]
[null,"Výdaje na vybudování nové otopné soustavy - 2. typ zdroje",null,0,21,null,{"$f":"IF($B$7=\"nezvoleno\",0,IF($B$7=List2!$A$4,0,D40*(1+(E40/100))))","v":0},0,{"$f":"IF($B$7=\"nezvoleno\",0,IF($B$7=List2!$A$4,0,IF(List2!$A$24=TRUE,IF((D40-H40)<L13,(D40-H40),L13),IF((D40-H40)<L13,(D40-H40)*(1),(L13)*(1)))))","v":0}]
[null,"Výdaje na instalaci systému větrání s využitím odpadního tepla",null,0,21,null,{"$f":"IF($B$7=\"nezvoleno\",0,IF($B$7=List2!$A$4,0,D41*(1+(E41/100))))","v":0},0,{"$f":"IF($B$7=\"nezvoleno\",0,IF($B$7=List2!$A$4,0,IF(List2!$A$24=TRUE,IF((D41-H41)<L29,(D41-H41),L29),IF((D41-H41)<L29,(D41-H41)*(1),(L29)*(1)))))","v":0}]
[null,"Výdaje na instalaci solárního termického systému ",null,0,21,null,{"$f":"IF($B$7=\"nezvoleno\",0,IF($B$7=List2!$A$4,0,D42*(1+(E42/100))))","v":0},0,{"$f":"IF($B$7=\"nezvoleno\",0,IF($B$7=List2!$A$4,0,IF(List2!$A$24=TRUE,IF((D42-H42)<L27,(D42-H42),L27),IF((D42-H42)<L27,(D42-H42)*(1),(L27)*(1)))))","v":0}]
[null,"Výdaje na instalaci kogenerační jednotky",null,0,21,null,{"$f":"IF($B$7=\"nezvoleno\",0,IF($B$7=List2!$A$4,0,D43*(1+(E43/100))))","v":0},0,{"$f":"IF($B$7=\"nezvoleno\",0,IF($B$7=List2!$A$4,0,IF(List2!$A$24=TRUE,IF((D43-H43)<L28,(D43-H43),L28),IF((D43-H43)<L28,(D43-H43)*(1),(L28)*(1)))))","v":0}]
[null,"Výdaje na instalaci fotovoltaického systému",null,0,21,null,{"$f":"IF($B$7=\"nezvoleno\",0,IF($B$7<>List2!$A$4,D44*(1+(E44/100)),0))","v":0},0,{"$f":"IF($B$7=\"nezvoleno\",0,IF($B$7<>List2!$A$4,IF($A$15=TRUE,IF(List2!$A$24=TRUE,IF((D44-H44)<(L30),(D44-H44),(L30)),IF((D44-H44)*(1+(E44/100))<((L30)*(1)),(D44-H44)*(1),((L30)*(1)))),0),0))","v":0}]
[null,"Výdaje na instalaci akumulace k fotovoltaickému systému",null,0,21,null,{"$f":"IF($B$7=\"nezvoleno\",0,IF($B$7<>List2!$A$4,D45*(1+(E45/100)),0))","v":0},0,{"$f":"IF($B$7=\"nezvoleno\",0,IF($B$7<>List2!$A$4,IF($A$15=TRUE,IF(List2!$A$24=TRUE,IF((D45-H45)<(L31),(D45-H45),(L31)),IF((D45-H45)*(1+(E45/100))<((L31)*(1)),(D45-H45)*(1),((L31)*(1)))),0),0))","v":0}]
[null,"Výdaje na výstavbu veřejných budov v pasivním energetickém standardu",null,0,21,null,{"$f":"IF($B$7=\"nezvoleno\",0,IF($B$7=List2!$A$4,IF($A$10=TRUE,D46*(1+(E46/100)),0),0))","v":0},0,{"$f":"IF($B$7=\"nezvoleno\",0,IF($B$7=List2!$A$4,IF($A$10=TRUE,IF(List2!$A$24=TRUE,(D46-H46),(D46-H46)*(1)),0),0))","v":0}]
[null,"Výdaje na stínění stínicí technikou s ručním mechanickým ovládáním",null,0,21,null,{"$f":"IF($B$7=\"nezvoleno\",0,IF($B$7=List2!$A$4,0,D47*(1+(E47/100))))","v":0},0,{"$f":"IF($B$7=\"nezvoleno\",0,IF($B$7<>List2!$A$4,IF($A$16=TRUE,IF(List2!$A$24=TRUE,IF((D47-H47)<(L19),(D47-H47),(L19)),IF((D47-H47)*(1+(E47/100))<((L19)*(1)),(D47-H47)*(1),((L19)*(1)))),0),0))","v":0}]
[null,"Výdaje na stínění stínicí technikou s ručním elektronickým ovládáním",null,0,21,null,{"$f":"IF($B$7=\"nezvoleno\",0,IF($B$7=List2!$A$4,0,D48*(1+(E48/100))))","v":0},0,{"$f":"IF($B$7=\"nezvoleno\",0,IF($B$7<>List2!$A$4,IF($A$16=TRUE,IF(List2!$A$24=TRUE,IF((D48-H48)<(L20),(D48-H48),(L20)),IF((D48-H48)*(1+(E48/100))<((L20)*(1)),(D48-H48)*(1),((L20)*(1)))),0),0))","v":0}]
[null,"Výdaje na stínění stínicí technikou s inteligentním motorickým řízením",null,0,21,null,{"$f":"IF($B$7=\"nezvoleno\",0,IF($B$7=List2!$A$4,0,D49*(1+(E49/100))))","v":0},0,{"$f":"IF($B$7=\"nezvoleno\",0,IF($B$7<>List2!$A$4,IF($A$16=TRUE,IF(List2!$A$24=TRUE,IF((D49-H49)<(L21),(D49-H49),(L21)),IF((D49-H49)*(1)<((L21)*(1)),(D49-H49)*(1),((L21)*(1)))),0),0))","v":0}]
[null,"Výdaje na úpravu osvětlení - učebny - LED, dynamický způsob ovládání",null,0,21,null,{"$f":"IF($B$7=\"nezvoleno\",0,IF($B$7=List2!$A$4,0,D50*(1+(E50/100))))","v":0},0,{"$f":"IF($B$7=\"nezvoleno\",0,IF($B$7<>List2!$A$4,IF($A$17=TRUE,IF(List2!$A$24=TRUE,IF((D50-H50)<(L22),(D50-H50),(L22)),IF((D50-H50)*(1)<((L22)*(1)),(D50-H50)*(1),((L22)*(1)))),0),0))","v":0}]
[null,"Výdaje na úpravu osvětlení - učebny - LED, biodynam. systém osvětlení",null,0,21,null,{"$f":"IF($B$7=\"nezvoleno\",0,IF($B$7=List2!$A$4,0,D51*(1+(E51/100))))","v":0},0,{"$f":"IF($B$7=\"nezvoleno\",0,IF($B$7<>List2!$A$4,IF($A$17=TRUE,IF(List2!$A$24=TRUE,IF((D51-H51)<(L23),(D51-H51),(L23)),IF((D51-H51)*(1)<((L23)*(1)),(D51-H51)*(1),((L23)*(1)))),0),0))","v":0}]
[null,"Výdaje na úpravu osvětlení - ostatní prostory - pokročilý systém aut. ovl. ",null,0,21,null,{"$f":"IF($B$7=\"nezvoleno\",0,IF($B$7=List2!$A$4,0,D52*(1+(E52/100))))","v":0},0,{"$f":"IF($B$7=\"nezvoleno\",0,IF($B$7<>List2!$A$4,IF($A$17=TRUE,IF(List2!$A$24=TRUE,IF((D52-H52)<(L24),(D52-H52),(L24)),IF((D52-H52)*(1)<((L24)*(1)),(D52-H52)*(1),((L24)*(1)))),0),0))","v":0}]
[null,"Výdaje na úpravu akustických parametrů v místnostech",null,0,21,null,{"$f":"IF($B$7=\"nezvoleno\",0,IF($B$7=List2!$A$4,0,D53*(1+(E53/100))))","v":0},0,{"$f":"IF($B$7=\"nezvoleno\",0,IF($B$7=List2!$A$2,IF($A$14=TRUE,IF(List2!$A$24=TRUE,IF((D53-H53)<(L25),(D53-H53),(L25)),IF((D53-H53)*(1)<((L25)*(1)),(D53-H53)*(1),((L25)*(1)))),0),IF($B$7=List2!$A$3,IF($A$14=TRUE,IF(List2!$A$24=TRUE,IF((D53-H53)<(L25),(D53-H53),(L25)),IF((D53-H53)*(1)<((L25)*(1)),(D53-H53)*(1),((L25)*(1)))),0),0)))","v":0}]
[null,"Výdaje na další opatření navržená energetickým auditem",null,0,21,null,{"$f":"IF($B$7=\"nezvoleno\",0,IF($B$7=List2!$A$4,0,D54*(1+(E54/100))))","v":0},0,{"$f":"IF($B$7=\"nezvoleno\",0,IF($B$7=List2!$A$4,0,IF(List2!$A$24=TRUE,IF((D54-H54)<L26,(D54-H54),L26),IF((D54-H54)<L26,(D54-H54)*(1),(L26)*(1)))))","v":0}]
[null,"Rezerva",null,0,21,null,{"$f":"IF($B$7=\"nezvoleno\",0,D55*(1+(E55/100)))","v":0},0,{"$f":"0","v":0}]
[null,"Celkem (Přímé realizační výdaje)",null,{"$f":"IF($B$7=List2!$A$4,D46+D55,SUM(D36:D45)+SUM(D47:D55))","v":0},null,null,{"$f":"SUM(G36:G55)","v":0},{"$f":"SUM(H36:H55)","v":0},{"$f":"SUM(I36:L55)","v":0}]
[null,"Propagace",null,0,21,null,{"$f":"IF($B$7=\"nezvoleno\",0,D57*(1+(E57/100)))","v":0},0,{"$f":"IF($B$7=\"nezvoleno\",0,IF(List2!$A$24=TRUE,IF((D57-H57)>12000,12000,(D57-H57)),IF((D57-H57)*(1)>12000,12000*(1),(D57-H57)*(1))))","v":0}]
["Projektová příprava, autorský a technický dozor","Studie projektového záměru, podkladové studie a analýzy",null,0,21,null,0,0,{"$f":"IF($B$7=\"nezvoleno\",0,IF(List2!$A$24=TRUE,IF((D58-H58)>($I$56*($C$34/100)),($I$56*($C$34/100)),(D58-H58)),IF((D58-H58)*(1)>($I$56*($C$34/100)),($I$56*($C$34/100)),(D58-H58)*(1))))","v":0}]
[null,"Energetické posouzení + PENB",null,0,21,null,0,0,{"$f":"IF($B$7=\"nezvoleno\",0,IF(List2!$A$24=TRUE,IF((D59-H59)>(($I$56*($C$34/100))-I58),(($I$56*($C$34/100))-I58),(D59-H59)),IF((D59-H59)*(1)>(($I$56*($C$34/100))-I58),(($I$56*($C$34/100))-I58),(D59-H59)*(1))))","v":0}]
[null,"Technický dozor + koordinátor BOZP",null,0,21,null,0,0,{"$f":"IF(List2!$A$24=TRUE,IF((D60-H60)>(($I$56*(3/100))),(($I$56*(3/100))),(D60-H60)),IF((D60-H60)*(1)>(($I$56*(3/100))),(($I$56*(3/100))),(D60-H60)*(1)))","v":0}]
[null,"Autorský dozor",null,0,21,null,0,0,{"$f":"IF($B$7=\"nezvoleno\",0,IF(List2!$A$24=TRUE,IF((D61-H61)>(($I$56*(3/100))-I60),(($I$56*(3/100))-I60),(D61-H61)),IF((D61-H61)*(1)>(($I$56*(3/100))-I60),(($I$56*(3/100))-I60),(D61-H61)*(1))))","v":0}]
[null,"Žádost + další administrace",null,0,21,null,0,0,{"$f":"IF($B$7=\"nezvoleno\",0,IF(List2!$A$24=TRUE,IF((D62-H62)>60000,IF((($I$56*($C$34/100))-I58-I59)>(60000),(60000),(($I$56*($C$34/100))-I58-I59)),IF((D62-H62)>(($I$56*($C$34/100))-I58-I59),(($I$56*($C$34/100))-I58-I59),(D62-H62))),IF((D62-H62)>60000,IF((($I$56*($C$34/100))-I58-I59)>(60000*(1)),(60000*(1)),(($I$56*($C$34/100))-I58-I59)),IF((D62-H62)*(1)>(($I$56*($C$34/100))-I58-I59),(($I$56*($C$34/100))-I58-I59),(D62-H62)*(1)))))","v":0}]
[null,"Organizace výběrového řízení na realizaci + ZD",null,0,21,null,0,0,{"$f":"IF($B$7=\"nezvoleno\",0,IF(List2!$A$24=TRUE,IF((D63-H63)>(($I$56*($C$34/100))-I58-I59-I62),(($I$56*($C$34/100))-I58-I59-I62),(D63-H63)),IF((D63-H63)*(1)>(($I$56*($C$34/100))-I58-I59-I62),(($I$56*($C$34/100))-I58-I59-I62),(D63-H63)*(1))))","v":0}]
[null,"Dokumentace k využití metody EPC / Design & Build",null,0,21,null,0,0,{"$f":"IF($B$7=\"nezvoleno\",0,IF(List2!$A$24=TRUE,IF((D64-H64)>(($I$56*($C$34/100))-I58-I59-I62-I63),(($I$56*($C$34/100))-I58-I59-I62-I63),(D64-H64)),IF((D64-H64)*(1)>(($I$56*($C$34/100))-I58-I59-I62-I63),(($I$56*($C$34/100))-I58-I59-I62-I63),(D64-H64)*(1))))","v":0}]
[null,null,null,0,21,null,0,0,{"$f":"IF($B$7=\"nezvoleno\",0,IF(List2!$A$24=TRUE,IF((D65-H65)>(($I$56*($C$34/100))-I58-I59-I62-I63-I64),(($I$56*($C$34/100))-I58-I59-I62-I63-I64),(D65-H65)),IF((D65-H65)*(1)>(($I$56*($C$34/100))-I58-I59-I62-I63-I64),(($I$56*($C$34/100))-I58-I59-I62-I63-I64),(D65-H65)*(1))))","v":0}]
[null,"Celkem ",null,{"$f":"SUM(D58:D65)","v":0},null,null,{"$f":"SUM(G58:G65)","v":0},{"$f":"SUM(H58:H65)","v":0},{"$f":"SUM(I58:L65)","v":0}]
[null,null,"Celkem",{"$f":"D66+D57+D56","v":0},null,null,{"$f":"G66+G57+G56","v":0},{"$f":"H66+H57+H56","v":0},{"$f":"I56+I57+I66","v":0}]
[]
["Navýšení limitů způsobilých výdajů na základě imisní zátěže lokality"]
[]
[1]
[]
["Celkové výdaje projektu (včetně DPH)",null,{"$f":"G67","v":0},null,"Komentář k nezpůsobilým výdajům stanoveným žadatelem:"]
["Celkové způsobilé výdaje projektu",null,{"$f":"$I$67","v":0}]
["Celkové nezpůsobilé výdaje projektu",null,{"$f":"C73-C74","v":0}]
["Celkové způsobilé investiční náklady (bez DPH)",null,{"$f":"IF(List2!$A$24=FALSE,I36/(1),I36)+IF(List2!$A$24=FALSE,I37/(1),I37)+IF(List2!$A$24=FALSE,I38/(1),I38)+IF(List2!$A$24=FALSE,I39/(1),I39)+IF(List2!$A$24=FALSE,I40/(1),I40)+IF(List2!$A$24=FALSE,I41/(1),I41)+IF(List2!$A$24=FALSE,I42/(1),I42)+IF(List2!$A$24=FALSE,I43/(1),I43)+IF(List2!$A$24=FALSE,I44/(1),I44)+IF(List2!$A$24=FALSE,I45/(1),I45)+IF(List2!$A$24=FALSE,I46/(1),I46)+IF(List2!$A$24=FALSE,I47/(1),I47)+IF(List2!$A$24=FALSE,I48/(1),I48)+IF(List2!$A$24=FALSE,I49/(1),I49)+IF(List2!$A$24=FALSE,I50/(1),I50)+IF(List2!$A$24=FALSE,I51/(1),I51)+IF(List2!$A$24=FALSE,I52/(1),I52)+IF(List2!$A$24=FALSE,I53/(1),I53)+IF(List2!$A$24=FALSE,I54/(1),I54)","v":0}]
["Celkové způsobilé přímé realizační výdaje",null,{"$f":"$I$56","v":0}]

{"sheet":"List2","index":1,"n_rows":31,"n_cols":15,"rows_kept":31,"cut":false,"hidden":true,"merged":[]}
["nezvoleno",null,null,null,null,null,null,"Bez bonifikace"]
["Opatření v oblasti energ. účinnosti a k zajištění energie z OZE",null,null,null,null,null,null,"Obec do 1000 obyvatel včetně s více než jedním překročeným emisním limitem - bonus 5 %"]
["5.1b - Jednotlivá opatření snižující energetickou náročnost budovy",null,null,null,null,null,null,"Obec nad 1000 obyvatel s více než jedním překročeným emisním limitem - bonus 10 %"]
["5.1c - Budování veřejných budov v pasivním energetickém standardu"]
["5.3a - Komplexní řešení energetické náročnosti budovy"]
["5.3b - Jednotlivá opatření snižující energetickou náročnost budovy",null,null,null,null,null,null,"max. procento podpory"]
[null,null,null,null,null,null,null,{"$f":"IF('Kumulativní rozpočet projektu'!$B$7=\"Opatření v oblasti energ. účinnosti a k zajištění energie z OZE\",0.65,IF('Kumulativní rozpočet projektu'!$B$7=\"5.1b - Jednotlivá opatření snižující energetickou náročnost budovy\",0.7,IF('Kumulativní rozpočet projektu'!$B$7=\"5.3a - Komplexní řešení energetické náročnosti budovy\",1,IF('Kumulativní rozpočet projektu'!$B$7=\"5.3b - Jednotlivá opatření snižující energetickou náročnost budovy\",1,0.32))))","v":0.32},null,null,null,null,null,null,{"$f":"IF('Kumulativní rozpočet projektu'!$A$9=TRUE,1,0)","v":0}]
["Kotel na biomasu",null,null,null,null,null,null,null,null,null,null,null,null,null,{"$f":"IF('Kumulativní rozpočet projektu'!$A$10=TRUE,1,0)","v":0}]
["Kondenzační kotel na zemní plyn",null,null,null,null,null,null,null,null,null,null,null,null,null,{"$f":"IF('Kumulativní rozpočet projektu'!$A$11=TRUE,1,0)","v":0}]
["Elektrické tepelné čerpadlo vzduch/voda",null,null,null,null,null,null,null,null,null,null,null,null,null,{"$f":"IF('Kumulativní rozpočet projektu'!$A$12=TRUE,1,0)","v":0}]
["Elektrické tepelné čerpadlo země/voda",null,null,null,null,null,null,null,null,null,null,null,null,null,{"$f":"IF('Kumulativní rozpočet projektu'!$A$13=TRUE,1,0)","v":0}]
["Elektrické tepelné čerpadlo voda/voda",null,null,null,null,null,null,null,null,null,null,null,null,null,{"$f":"IF('Kumulativní rozpočet projektu'!$A$15=TRUE,1,0)","v":0}]
["Plynové tepelné čerpadlo vzduch/voda",null,null,null,null,null,null,null,null,null,null,null,null,null,{"$f":"SUM(O7:O12)","v":0}]
["Plynové tepelné čerpadlo země/voda"]
["Plynové tepelné čerpadlo voda/voda"]
["Systém využívající odpadní teplo",null,null,null,null,null,null,"Konstrukce bez požadavku orgánu památkové péče"]
["Plochý kolektor",null,null,null,null,null,null,"Konstrukce dotčená požadavkem orgánu památkové péče"]
["Trubicový vakuový kolektor"]
["Bez bonifikace"]
["Bonifikace 5 %"]
["Bonifikace 10 %",null,null,null,null,null,null,{"$f":"IF('Kumulativní rozpočet projektu'!$A9=TRUE,1,0)","v":0},"Zateplení"]
[null,null,null,null,null,null,null,{"$f":"IF('Kumulativní rozpočet projektu'!$A10=TRUE,1,0)","v":0},"Zdroj"]
[null,null,null,null,null,null,null,{"$f":"IF('Kumulativní rozpočet projektu'!$A11=TRUE,1,0)","v":0},"Solár"]
[false,null,null,null,null,null,null,{"$f":"IF('Kumulativní rozpočet projektu'!$A12=TRUE,1,0)","v":0},"Rekuperace"]
[null,null,null,null,null,null,null,{"$f":"IF('Kumulativní rozpočet projektu'!$A13=TRUE,1,0)","v":0},"KVET"]
[null,null,null,null,null,null,null,{"$f":"IF('Kumulativní rozpočet projektu'!$A14=TRUE,1,0)","v":0},"akustika"]
[null,null,null,null,null,null,null,{"$f":"IF('Kumulativní rozpočet projektu'!$A15=TRUE,1,0)","v":0},"fotovoltaika"]
[null,null,null,null,null,null,null,{"$f":"IF('Kumulativní rozpočet projektu'!$A16=TRUE,1,0)","v":0},"stínění"]
[null,null,null,null,null,null,null,{"$f":"IF('Kumulativní rozpočet projektu'!$A17=TRUE,1,0)","v":0},"osvětlení"]
[null,null,null,null,null,null,null,{"$f":"IF('Kumulativní rozpočet projektu'!$A18=TRUE,1,0)","v":0},"fotovoltaika"]
[null,null,null,null,null,null,null,{"$f":"SUM(H21:H30)","v":0}]